BEGIN:VCALENDAR
VERSION:2.0
PRODID:-//Nancy Vol Libre - ECPv6.15.20//NONSGML v1.0//EN
CALSCALE:GREGORIAN
METHOD:PUBLISH
X-WR-CALNAME:Nancy Vol Libre
X-ORIGINAL-URL:https://nancyvollibre.com
X-WR-CALDESC:Évènements pour Nancy Vol Libre
REFRESH-INTERVAL;VALUE=DURATION:PT1H
X-Robots-Tag:noindex
X-PUBLISHED-TTL:PT1H
BEGIN:VTIMEZONE
TZID:Europe/Paris
BEGIN:DAYLIGHT
TZOFFSETFROM:+0100
TZOFFSETTO:+0200
TZNAME:CEST
DTSTART:20240331T010000
END:DAYLIGHT
BEGIN:STANDARD
TZOFFSETFROM:+0200
TZOFFSETTO:+0100
TZNAME:CET
DTSTART:20241027T010000
END:STANDARD
BEGIN:DAYLIGHT
TZOFFSETFROM:+0100
TZOFFSETTO:+0200
TZNAME:CEST
DTSTART:20250330T010000
END:DAYLIGHT
BEGIN:STANDARD
TZOFFSETFROM:+0200
TZOFFSETTO:+0100
TZNAME:CET
DTSTART:20251026T010000
END:STANDARD
BEGIN:DAYLIGHT
TZOFFSETFROM:+0100
TZOFFSETTO:+0200
TZNAME:CEST
DTSTART:20260329T010000
END:DAYLIGHT
BEGIN:STANDARD
TZOFFSETFROM:+0200
TZOFFSETTO:+0100
TZNAME:CET
DTSTART:20261025T010000
END:STANDARD
END:VTIMEZONE
BEGIN:VEVENT
DTSTART;VALUE=DATE:20250405
DTEND;VALUE=DATE:20250407
DTSTAMP:20260423T185552
CREATED:20241211T164145Z
LAST-MODIFIED:20250313T094633Z
UID:2248-1743811200-1743983999@nancyvollibre.com
SUMMARY:Tyrolienne sur portique
DESCRIPTION:ANNULE faute de participants
URL:https://nancyvollibre.com/event/tyrolienne-sur-portique/
CATEGORIES:Sécurité
END:VEVENT
BEGIN:VEVENT
DTSTART;TZID=Europe/Paris:20250406T090000
DTEND;TZID=Europe/Paris:20250406T130000
DTSTAMP:20260423T185552
CREATED:20241219T095032Z
LAST-MODIFIED:20250303T080903Z
UID:2680-1743930000-1743944400@nancyvollibre.com
SUMMARY:Pliage secours 6 avril
DESCRIPTION:Bonne nouvelle\, le gymnase de Flavigny  sera disponible le 6 avril. Nous pourrons y plier nos secours. \nLe CDVL54 organise également une matinée pliage le 30 mars \n 
URL:https://nancyvollibre.com/event/pliage-secours/
LOCATION:Salle des fête Flavigny\, 4 place Michel Gardeux\, Flavigny-sur-Moselle\, 54630\, France
CATEGORIES:Sécurité
ORGANIZER;CN="NVL":MAILTO:comite@nancyvollibre.com
END:VEVENT
END:VCALENDAR